BEGIN:VCALENDAR
VERSION:2.0
PRODID:SchoolNow
CALSCALE:GREGORIAN
BEGIN:VEVENT
UID:1df83270-09b4-11ec-acd5-0ea3185b490f
DTSTAMP:20211103T124029Z
SUMMARY:CDD Board Meeting - Nov. 2021
LOCATION:Heritage Harbor Clubhouse\, 19502 Heritage Harbor Parkway\, Lutz\,
  FL
URL;VALUE=URI:https://www.heritageharborcdd.org/calendar/2695143/cdd-board-
 meeting-nov-2021
DTSTART:20211109T223000Z
DTEND:20211110T003000Z
ATTACH;FILENAME=2021-11-09 Audit Agenda.pdf;FMTTYPE=application/pdf:https:/
 /campussuite-storage.s3.amazonaws.com/prod/1558791/7d70cf68-a7dd-11e9-9cef
 -0a9ba80c3a40/2339001/aa2de8f0-3c1a-11ec-b991-0242a7ee8799/file/2021-11-09
  Audit Agenda.pdf
ATTACH;FILENAME=2021-11-09 Regular Agenda.pdf;FMTTYPE=application/pdf:https
 ://campussuite-storage.s3.amazonaws.com/prod/1558791/7d70cf68-a7dd-11e9-9c
 ef-0a9ba80c3a40/2339002/aa2deeea-3c1a-11ec-a6f5-0242a7ee8799/file/2021-11-
 09 Regular Agenda.pdf
END:VEVENT
END:VCALENDAR
