BEGIN:VCALENDAR
VERSION:2.0
PRODID:SchoolNow
CALSCALE:GREGORIAN
BEGIN:VEVENT
UID:0f1c4fac-09b4-11ec-b006-0ea3185b490f
DTSTAMP:20211005T203319Z
SUMMARY:CDD Board Meeting - Oct. 2021
LOCATION:Heritage Harbor Clubhouse\, 19502 Heritage Harbor Parkway\, Lutz\,
  FL
URL;VALUE=URI:https://www.heritageharborcdd.org/calendar/2695142/cdd-board-
 meeting-oct-2021
DTSTART:20211012T213000Z
DTEND:20211012T233000Z
ATTACH;FILENAME=2021-10-12 Audit Agenda.pdf;FMTTYPE=application/pdf:https:/
 /campussuite-storage.s3.amazonaws.com/prod/1558791/7d70cf68-a7dd-11e9-9cef
 -0a9ba80c3a40/2324640/5dc4424e-261b-11ec-856a-0e73b6492cff/file/2021-10-12
  Audit Agenda.pdf
ATTACH;FILENAME=2021-10-12 Regular Agenda - UPDATED 10-11.pdf;FMTTYPE=appli
 cation/pdf:https://campussuite-storage.s3.amazonaws.com/prod/1558791/7d70c
 f68-a7dd-11e9-9cef-0a9ba80c3a40/2324641/5dc44ece-261b-11ec-8f23-0e73b6492c
 ff/file/2021-10-12 Regular Agenda - UPDATED 10-11.pdf
END:VEVENT
END:VCALENDAR
